BEGIN:VCALENDAR
VERSION:2.0
PRODID:-//Donna Baptiste Ministries - ECPv6.15.20//NONSGML v1.0//EN
CALSCALE:GREGORIAN
METHOD:PUBLISH
X-WR-CALNAME:Donna Baptiste Ministries
X-ORIGINAL-URL:https://www.donnabaptisteministries.com
X-WR-CALDESC:Events for Donna Baptiste Ministries
REFRESH-INTERVAL;VALUE=DURATION:PT1H
X-Robots-Tag:noindex
X-PUBLISHED-TTL:PT1H
BEGIN:VTIMEZONE
TZID:UTC
BEGIN:STANDARD
TZOFFSETFROM:+0000
TZOFFSETTO:+0000
TZNAME:UTC
DTSTART:20220101T000000
END:STANDARD
END:VTIMEZONE
BEGIN:VEVENT
DTSTART;TZID=UTC:20230312T110000
DTEND;TZID=UTC:20230312T130000
DTSTAMP:20260425T092049
CREATED:20230208T200020Z
LAST-MODIFIED:20230208T200021Z
UID:227-1678618800-1678626000@www.donnabaptisteministries.com
SUMMARY:Preach: Grace Chinese Alliance Church (Brooklyn\, NY)
DESCRIPTION:
URL:https://www.donnabaptisteministries.com/event/preach-grace-chinese-alliance-church-brooklyn-ny/
END:VEVENT
BEGIN:VEVENT
DTSTART;TZID=UTC:20230325T000000
DTEND;TZID=UTC:20230325T235959
DTSTAMP:20260425T092049
CREATED:20230208T200310Z
LAST-MODIFIED:20230208T200311Z
UID:231-1679702400-1679788799@www.donnabaptisteministries.com
SUMMARY:Donna Baptiste Ministries\, Inc Board of Trustees (Zoom)
DESCRIPTION:
URL:https://www.donnabaptisteministries.com/event/donna-baptiste-ministries-inc-board-of-trustees-zoom/
END:VEVENT
BEGIN:VEVENT
DTSTART;TZID=UTC:20230326T000000
DTEND;TZID=UTC:20230326T235959
DTSTAMP:20260425T092049
CREATED:20230208T200757Z
LAST-MODIFIED:20230208T200758Z
UID:233-1679788800-1679875199@www.donnabaptisteministries.com
SUMMARY:Preach: Alliance Tabernacle (Brooklyn\, NY)
DESCRIPTION:
URL:https://www.donnabaptisteministries.com/event/preach-alliance-tabernacle-brooklyn-ny/
END:VEVENT
END:VCALENDAR